BEGIN:VCALENDAR
VERSION:2.0
PRODID:-//Birthday Toy Drive - ECPv6.15.18//NONSGML v1.0//EN
CALSCALE:GREGORIAN
METHOD:PUBLISH
X-WR-CALNAME:Birthday Toy Drive
X-ORIGINAL-URL:https://birthdaytoydrive.fun
X-WR-CALDESC:Events for Birthday Toy Drive
REFRESH-INTERVAL;VALUE=DURATION:PT1H
X-Robots-Tag:noindex
X-PUBLISHED-TTL:PT1H
BEGIN:VTIMEZONE
TZID:America/New_York
BEGIN:DAYLIGHT
TZOFFSETFROM:-0500
TZOFFSETTO:-0400
TZNAME:EDT
DTSTART:20250309T070000
END:DAYLIGHT
BEGIN:STANDARD
TZOFFSETFROM:-0400
TZOFFSETTO:-0500
TZNAME:EST
DTSTART:20251102T060000
END:STANDARD
BEGIN:DAYLIGHT
TZOFFSETFROM:-0500
TZOFFSETTO:-0400
TZNAME:EDT
DTSTART:20260308T070000
END:DAYLIGHT
BEGIN:STANDARD
TZOFFSETFROM:-0400
TZOFFSETTO:-0500
TZNAME:EST
DTSTART:20261101T060000
END:STANDARD
BEGIN:DAYLIGHT
TZOFFSETFROM:-0500
TZOFFSETTO:-0400
TZNAME:EDT
DTSTART:20270314T070000
END:DAYLIGHT
BEGIN:STANDARD
TZOFFSETFROM:-0400
TZOFFSETTO:-0500
TZNAME:EST
DTSTART:20271107T060000
END:STANDARD
END:VTIMEZONE
BEGIN:VEVENT
DTSTART;TZID=America/New_York:20260711T140000
DTEND;TZID=America/New_York:20260711T170000
DTSTAMP:20260423T085249
CREATED:20260116T184758Z
LAST-MODIFIED:20260326T151315Z
UID:5687-1783778400-1783789200@birthdaytoydrive.fun
SUMMARY:9th Annual Birthday Toy Drive Party
DESCRIPTION:Join us to celebrate the success of our 9th Annual Birthday Toy Drive! Live music\, food\, drinks\, activities for every age & much more at McFarland’s. \n\nMusic The Goodfoots
URL:https://birthdaytoydrive.fun/event/9th-annual-birthday-toy-drive-party/
LOCATION:McFarland’s\, 1571 McFarland Rd\, Pittsburgh\, PA\, 15216\, United States
ATTACH;FMTTYPE=image/png:https://birthdaytoydrive.fun/wp-content/uploads/2023/03/save-the-date-9th-square.png
END:VEVENT
END:VCALENDAR